Workbook

Sheet (はじめにお読み下さい)申請書の使い方
A2: 本申請書の使い方、申請の手順
A4: 手順 | B4: 都道府県の作業 | C4: 事業者（法人本部）の作業 | D4: 各事業所の作業
A5: 1 | B5: 本Excelを管内の介護サービス事業者に配布
A6: =A5+1 -> 2 | C6: 本Excelを各事業所に配布し、以下の様式への記入を依頼 ・様式２（個票）
A7: =A6+1 -> 3 | D7: 以下の作業を行った上で、事業者（法人本部）へ返送 【様式２（個票）】 ・水色セル：必要情報を入力 ・緑色セル：プルダウンから選択
A8: =A7+1 -> 4 | C8: 各事業所の個票のシートを１つのExcelファイルに集約し、個票シート名を「個票●」（●は１からの通し番号）に修正
A9: =A8+1 -> 5 | C9: 様式２（個票）の内容が、様式１（申請額一覧）に正しく反映されていることを確認 ※15事業所以上ある場合には6行目～15行目を行ごとコピーし、16行目に右クリック→「コピーしたセルの挿入」で挿入すること。
A10: =A9+1 -> 6 | C10: 申請書に、申請者の法人名、代表者名、日付、提出先（○○県知事）を入力
A11: =A10+1 -> 7 | C11: 完成したExcelファイルを都道府県（都道府県が受付業務を民間事業者に委託する場合は、各都道府県の委託事業者）に送付
A12: =A11+1 -> 8 | B12: 事業者からExcelファイルを受領し、内容を審査 ※都道府県が受付業務を民間事業者に委託する場合は、委託事業者を通じて都道府県に送付
A13: =A12+1 -> 9 | B13: 都道府県等内で必要な作業を行い、事業者に補助金を交付

Sheet 申請書
A1: (様式第1号）
AC3: 令和 | AF3: 年 | AI3: 月 | AL3: 日
A5: 福島県知事 | I5: 殿
S7: （法人名） | Y7: 社会福祉法人○○○○
S8: （役職・代表者名） | Y8: 理事長 ○○ ○○
A10: 福島県介護事業所等に対するサービス継続支援事業に係る
A11: 交付申請書兼実績報告書
A13: 標記について、次により補助金を交付されるよう関係書類を添えて申請する。
B15: 申 請 額 ： | K15: =SUM(X18:AB19) -> 400 | S15: 千円
B17: （内訳）
C18: 介護事業所等に対するサービス継続支援事業 | X18: =SUM(申請額一覧!H5:H24) -> 400 | AC18: 千円
B23: （添付書類）
B24: １ 事業所別申請（確定）額一覧（様式第2号）
B25: ２ 介護事業所等に対するサービス継続支援事業に関する事業実施計画（報告）書
D26: （事業所単位）（様式第3号）
B27: ３ 振込口座情報（様式第4号）
T31: 【申請内容に関する問い合わせ先】
U33: 申請法人住所 | AB33: 福島市○○町○-○
U34: 部署名 | AB34: 総務課
U35: 担当者氏名 | AB35: ○○ ○○
U36: 連絡先 | X36: 電話番号 | AB36: 024-○○○-○○○
X37: e-mail | AB37: ・・＠・・・・・jp

Sheet 申請額一覧
A1: （様式第2号）事業所申請（確定）額一覧
A3: No. | B3: 事業所・施設名 | C3: 介護保険 事業所番号 | D3: サービス種別 | E3: 電話番号 | F3: 住所 | G3: 代表となる 事業所・施設名 | H3: 補助予定額（千円） | K3: 審査 結果
H4: 介護事業所等に対するサービス継続支援事業 | I4: 介護施設等に対するサービス継続支援事業 | J4: 合計
A5: =ROW()-4 -> 1 | B5: =IFERROR(INDIRECT("個票"&$A5&"！$t$7"),"") -> 訪問介護事業所●● | C5: =IFERROR(INDIRECT("個票"&$A5&"！$h$7"),"") -> ○○ | D5: =IFERROR(INDIRECT("個票"&$A5&"！$l$10"),"") -> 訪問介護事業所 上記以外であって、1月あたり延べ訪問回数201回以上2,000回以下 | E5: =IFERROR(INDIRECT("個票"&$A5&"！$w$9"),"") -> 024-521-○○○○ | F5: =IFERROR(INDIRECT("個票"&$A5&"！$ｄ$9")&INDIRECT("個票"&$A5&"！$ｈ$9"),"") -> 福島県福島市○○○ | G5: =IF(J5>0,申請書!$Y$7,"") -> 社会福祉法人○○○○ | H5: =IFERROR(INDIRECT("個票"&$A5&"！$ai$27"),"") -> 400 | I5: =IFERROR(INDIRECT("個票"&$A5&"！$ai$47"),"") | J5: =SUM(H5,I5) -> 400
A6: =ROW()-4 -> 2 | B6: =IFERROR(INDIRECT("個票"&$A6&"！$t$7"),"") -> デイサービス■■ | C6: =IFERROR(INDIRECT("個票"&$A6&"！$h$7"),"") -> ○○ | D6: =IFERROR(INDIRECT("個票"&$A6&"！$l$10"),"") -> 通所介護事業所 1月あたり延べ利用者数301人以上600人以下 | E6: =IFERROR(INDIRECT("個票"&$A6&"！$w$9"),"") -> 024-521-○○○○ | F6: =IFERROR(INDIRECT("個票"&$A6&"！$ｄ$9")&INDIRECT("個票"&$A6&"！$ｈ$9"),"") -> 福島県郡山市■■■ | G6: =IF(J6>0,申請書!$Y$7,"") | H6: =IFERROR(INDIRECT("個票"&$A6&"！$ai$27"),"") -> 0 | I6: =IFERROR(INDIRECT("個票"&$A6&"！$ai$47"),"") | J6: =SUM(H6,I6) -> 0
A7: =ROW()-4 -> 3 | B7: =IFERROR(INDIRECT("個票"&$A7&"！$t$7"),"") -> 特別養護老人ホーム▲▲ | C7: =IFERROR(INDIRECT("個票"&$A7&"！$h$7"),"") -> ○○ | D7: =IFERROR(INDIRECT("個票"&$A7&"！$l$10"),"") -> 介護老人福祉施設 | E7: =IFERROR(INDIRECT("個票"&$A7&"！$w$9"),"") -> 0246-●●-●●●● | F7: =IFERROR(INDIRECT("個票"&$A7&"！$ｄ$9")&INDIRECT("個票"&$A7&"！$ｈ$9"),"") -> 福島県いわき市●● | G7: =IF(J7>0,申請書!$Y$7,"") | H7: =IFERROR(INDIRECT("個票"&$A7&"！$ai$27"),"") -> 0 | I7: =IFERROR(INDIRECT("個票"&$A7&"！$ai$47"),"") -> 0 | J7: =SUM(H7,I7) -> 0
A8: =ROW()-4 -> 4 | B8: =IFERROR(INDIRECT("個票"&$A8&"！$t$7"),"") -> 0 | C8: =IFERROR(INDIRECT("個票"&$A8&"！$h$7"),"") -> 0 | D8: =IFERROR(INDIRECT("個票"&$A8&"！$l$10"),"") -> 0 | E8: =IFERROR(INDIRECT("個票"&$A8&"！$w$9"),"") -> 0 | F8: =IFERROR(INDIRECT("個票"&$A8&"！$ｄ$9")&INDIRECT("個票"&$A8&"！$ｈ$9"),"") -> 福島県 | G8: =IF(J8>0,申請書!$Y$7,"") | H8: =IFERROR(INDIRECT("個票"&$A8&"！$ai$27"),"") -> 0 | I8: =IFERROR(INDIRECT("個票"&$A8&"！$ai$47"),"") | J8: =SUM(H8,I8) -> 0
A9: =ROW()-4 -> 5 | B9: =IFERROR(INDIRECT("個票"&$A9&"！$t$7"),"") -> 0 | C9: =IFERROR(INDIRECT("個票"&$A9&"！$h$7"),"") -> 0 | D9: =IFERROR(INDIRECT("個票"&$A9&"！$l$10"),"") -> 0 | E9: =IFERROR(INDIRECT("個票"&$A9&"！$w$9"),"") -> 0 | F9: =IFERROR(INDIRECT("個票"&$A9&"！$ｄ$9")&INDIRECT("個票"&$A9&"！$ｈ$9"),"") -> 福島県 | G9: =IF(J9>0,申請書!$Y$7,"") | H9: =IFERROR(INDIRECT("個票"&$A9&"！$ai$27"),"") -> 0 | I9: =IFERROR(INDIRECT("個票"&$A9&"！$ai$47"),"") | J9: =SUM(H9,I9) -> 0
A10: =ROW()-4 -> 6 | B10: =IFERROR(INDIRECT("個票"&$A10&"！$t$7"),"") -> 0 | C10: =IFERROR(INDIRECT("個票"&$A10&"！$h$7"),"") -> 0 | D10: =IFERROR(INDIRECT("個票"&$A10&"！$l$10"),"") -> 0 | E10: =IFERROR(INDIRECT("個票"&$A10&"！$w$9"),"") -> 0 | F10: =IFERROR(INDIRECT("個票"&$A10&"！$ｄ$9")&INDIRECT("個票"&$A10&"！$ｈ$9"),"") -> 福島県 | G10: =IF(J10>0,申請書!$Y$7,"") | H10: =IFERROR(INDIRECT("個票"&$A10&"！$ai$27"),"") -> 0 | I10: =IFERROR(INDIRECT("個票"&$A10&"！$ai$47"),"") | J10: =SUM(H10,I10) -> 0
A11: =ROW()-4 -> 7 | B11: =IFERROR(INDIRECT("個票"&$A11&"！$t$7"),"") -> 0 | C11: =IFERROR(INDIRECT("個票"&$A11&"！$h$7"),"") -> 0 | D11: =IFERROR(INDIRECT("個票"&$A11&"！$l$10"),"") -> 0 | E11: =IFERROR(INDIRECT("個票"&$A11&"！$w$9"),"") -> 0 | F11: =IFERROR(INDIRECT("個票"&$A11&"！$ｄ$9")&INDIRECT("個票"&$A11&"！$ｈ$9"),"") -> 福島県 | G11: =IF(J11>0,申請書!$Y$7,"") | H11: =IFERROR(INDIRECT("個票"&$A11&"！$ai$27"),"") -> 0 | I11: =IFERROR(INDIRECT("個票"&$A11&"！$ai$47"),"") | J11: =SUM(H11,I11) -> 0
A12: =ROW()-4 -> 8 | B12: =IFERROR(INDIRECT("個票"&$A12&"！$t$7"),"") -> 0 | C12: =IFERROR(INDIRECT("個票"&$A12&"！$h$7"),"") -> 0 | D12: =IFERROR(INDIRECT("個票"&$A12&"！$l$10"),"") -> 0 | E12: =IFERROR(INDIRECT("個票"&$A12&"！$w$9"),"") -> 0 | F12: =IFERROR(INDIRECT("個票"&$A12&"！$ｄ$9")&INDIRECT("個票"&$A12&"！$ｈ$9"),"") -> 福島県 | G12: =IF(J12>0,申請書!$Y$7,"") | H12: =IFERROR(INDIRECT("個票"&$A12&"！$ai$27"),"") -> 0 | I12: =IFERROR(INDIRECT("個票"&$A12&"！$ai$47"),"") | J12: =SUM(H12,I12) -> 0
A13: =ROW()-4 -> 9 | B13: =IFERROR(INDIRECT("個票"&$A13&"！$t$7"),"") -> 0 | C13: =IFERROR(INDIRECT("個票"&$A13&"！$h$7"),"") -> 0 | D13: =IFERROR(INDIRECT("個票"&$A13&"！$l$10"),"") -> 0 | E13: =IFERROR(INDIRECT("個票"&$A13&"！$w$9"),"") -> 0 | F13: =IFERROR(INDIRECT("個票"&$A13&"！$ｄ$9")&INDIRECT("個票"&$A13&"！$ｈ$9"),"") -> 福島県 | G13: =IF(J13>0,申請書!$Y$7,"") | H13: =IFERROR(INDIRECT("個票"&$A13&"！$ai$27"),"") -> 0 | I13: =IFERROR(INDIRECT("個票"&$A13&"！$ai$47"),"") | J13: =SUM(H13,I13) -> 0
A14: =ROW()-4 -> 10 | B14: =IFERROR(INDIRECT("個票"&$A14&"！$t$7"),"") -> 0 | C14: =IFERROR(INDIRECT("個票"&$A14&"！$h$7"),"") -> 0 | D14: =IFERROR(INDIRECT("個票"&$A14&"！$l$10"),"") -> 0 | E14: =IFERROR(INDIRECT("個票"&$A14&"！$w$9"),"") -> 0 | F14: =IFERROR(INDIRECT("個票"&$A14&"！$ｄ$9")&INDIRECT("個票"&$A14&"！$ｈ$9"),"") -> 福島県 | G14: =IF(J14>0,申請書!$Y$7,"") | H14: =IFERROR(INDIRECT("個票"&$A14&"！$ai$27"),"") -> 0 | I14: =IFERROR(INDIRECT("個票"&$A14&"！$ai$47"),"") | J14: =SUM(H14,I14) -> 0
A15: =ROW()-4 -> 11 | B15: =IFERROR(INDIRECT("個票"&$A15&"！$t$7"),"") -> 0 | C15: =IFERROR(INDIRECT("個票"&$A15&"！$h$7"),"") -> 0 | D15: =IFERROR(INDIRECT("個票"&$A15&"！$l$10"),"") -> 0 | E15: =IFERROR(INDIRECT("個票"&$A15&"！$w$9"),"") -> 0 | F15: =IFERROR(INDIRECT("個票"&$A15&"！$ｄ$9")&INDIRECT("個票"&$A15&"！$ｈ$9"),"") -> 福島県 | G15: =IF(J15>0,申請書!$Y$7,"") | H15: =IFERROR(INDIRECT("個票"&$A15&"！$ai$27"),"") -> 0 | I15: =IFERROR(INDIRECT("個票"&$A15&"！$ai$47"),"") | J15: =SUM(H15,I15) -> 0
A16: =ROW()-4 -> 12 | B16: =IFERROR(INDIRECT("個票"&$A16&"！$t$7"),"") -> 0 | C16: =IFERROR(INDIRECT("個票"&$A16&"！$h$7"),"") -> 0 | D16: =IFERROR(INDIRECT("個票"&$A16&"！$l$10"),"") -> 0 | E16: =IFERROR(INDIRECT("個票"&$A16&"！$w$9"),"") -> 0 | F16: =IFERROR(INDIRECT("個票"&$A16&"！$ｄ$9")&INDIRECT("個票"&$A16&"！$ｈ$9"),"") -> 福島県 | G16: =IF(J16>0,申請書!$Y$7,"") | H16: =IFERROR(INDIRECT("個票"&$A16&"！$ai$27"),"") -> 0 | I16: =IFERROR(INDIRECT("個票"&$A16&"！$ai$47"),"") | J16: =SUM(H16,I16) -> 0
... A24: =ROW()-4 -> 20 | B24: =IFERROR(INDIRECT("個票"&$A24&"！$t$7"),"") -> 0 | C24: =IFERROR(INDIRECT("個票"&$A24&"！$h$7"),"") -> 0 | D24: =IFERROR(INDIRECT("個票"&$A24&"！$l$10"),"") -> 0 | E24: =IFERROR(INDIRECT("個票"&$A24&"！$w$9"),"") -> 0 | F24: =IFERROR(INDIRECT("個票"&$A24&"！$ｄ$9")&INDIRECT("個票"&$A24&"！$ｈ$9"),"") -> 福島県 | G24: =IF(J24>0,申請書!$Y$7,"") | H24: =IFERROR(INDIRECT("個票"&$A24&"！$ai$27"),"") -> 0 | I24: =IFERROR(INDIRECT("個票"&$A24&"！$ai$47"),"") | J24: =SUM(H24,I24) -> 0

Sheet 単価表
A1: 別添 | C1: 新型コロナウイルス感染症緊急包括支援事業（介護分）
A2: 基準単価（単位：千円、１事業所又は１定員当たり） | I2: （１）②ⅰ今後に備えた都道府県における消毒液・マスク等の備蓄
G3: （１）① 感染症対策を徹底した上での介護サービス提供支援事業
C4: 助成対象 事業所・施設等の種別（※１） | G4: 令和２年４月１日以降、感染症を対策を徹底した上で、介護サービス提供を行うために必要なかかり増し経費が発生した介護サービス事業所・施設等（１～２８）（※２）
C5: 通所系 | D5: 1 | E5: 通所介護事業所 | F5: 通常規模型 | G5: 653 | H5: /事業所
D6: 2 | F6: 大規模型（Ⅰ） | G6: 831 | H6: /事業所
D7: 3 | F7: 大規模型（Ⅱ） | G7: 1075 | H7: /事業所
D8: 4 | E8: 地域密着型通所介護事業所（療養通所介護事業所を含む） | G8: 305 | H8: /事業所
D9: 5 | E9: 認知症対応型通所介護事業所 | G9: 340 | H9: /事業所
D10: 6 | E10: 通所リハビリテーション事業所 | F10: 通常規模型 | G10: 642 | H10: /事業所
D11: 7 | F11: 大規模型（Ⅰ） | G11: 776 | H11: /事業所
D12: 8 | F12: 大規模型（Ⅱ） | G12: 1272 | H12: /事業所
C13: 短期入所系 | D13: 9 | E13: 短期入所生活介護事業所、短期入所療養介護事業所 | G13: 44 | H13: /定員
C14: 訪問系 | D14: 10 | E14: 訪問介護事業所 | G14: 500 | H14: /事業所
D15: 11 | E15: 訪問入浴介護事業所 | G15: 431 | H15: /事業所
D16: 12 | E16: 訪問看護事業所 | G16: 464 | H16: /事業所
D17: 13 | E17: 訪問リハビリテーション事業所 | G17: 153 | H17: /事業所
D18: 14 | E18: 定期巡回・随時対応型訪問介護看護事業所 | G18: 1002 | H18: /事業所
D19: 15 | E19: 夜間対応型訪問介護事業所 | G19: 573 | H19: /事業所
D20: 16 | E20: 居宅介護支援事業所 | G20: 227 | H20: /事業所
D21: 17 | E21: 福祉用具貸与事業所 | G21: 252 | H21: /事業所
D22: 18 | E22: 居宅療養管理指導事業所 | G22: 82 | H22: /事業所
C23: 多機能型 | D23: 19 | E23: 小規模多機能型居宅介護事業所 | G23: 637 | H23: /事業所
D24: 20 | E24: 看護小規模多機能型居宅介護事業所 | G24: 873 | H24: /事業所
C25: 入所施設・ 居住系 | D25: 21 | E25: 介護老人福祉施設 | G25: 40 | H25: /定員
D26: 22 | E26: 地域密着型介護老人福祉施設 | G26: 48 | H26: /定員
D27: 23 | E27: 介護老人保健施設 | G27: 39 | H27: /定員
D28: 24 | E28: 介護医療院 | G28: 48 | H28: /定員
D29: 25 | E29: 介護療養型医療施設 | G29: 43 | H29: /定員
D30: 26 | E30: 認知症対応型共同生活介護事業所 | G30: 48 | H30: /定員
D31: 27 | E31: 養護老人ホーム、軽費老人ホーム、有料老人ホーム、サービス付き高齢者向け住宅（定員30人以上） | G31: 37 | H31: /定員
D32: 28 | E32: 養護老人ホーム、軽費老人ホーム、有料老人ホーム、サービス付き高齢者向け住宅（定員29人以下） | G32: 37 | H32: /定員
A33: 対象経費（※３） | G33: a 感染症対策に要する衛生用品等の物品購入 b 外部専門家等による研修実施 c （研修受講等に要する）旅費・宿泊費等 d 感染発生時対応・衛生用品補完等に柔軟に使える多機能型簡易居室の設置等 e 感染防止を徹底するための面会室の改修費 f 消毒・清掃費用 g 職員が勤務時間外に消毒・清掃等を行った場合の超過勤務手当や休日勤務手当等の割増賃金や、通常想定していない感染症対策に関する業務の実施に伴う手当など、法人（施設）の給与規程等に基づき職員に支払われる手当等のほか、非常勤職員を雇上した場合の賃金【P】 h 感染防止のための増員のため発生する追加的人件費 i 感染防止のための増員等、応援職員に係る職業紹介手数料 j 自動車車の購入又はリース費用 k 自転車の購入又はリース費用 l タブレット等のＩＣＴ機器の購入又はリース費用（通信費用は除く） m 普段と異なる場所でのサービスを実施する際の、賃料・物品の使用料 n 普段と異なる場所でのサービスを実施する際の職員の交通費、利用者の送迎に係る費用 o 訪問介護員による同行指導への謝金
A34: 助成額 | G34: ・事業所・施設ごとに、基準単価と対象経費の実支出額とを比較して少ない方の額を助成額とする。なお、1,000円未満の端数が生じた場合には、これを切り捨てるものとする。 ・また、１事業所・施設当たり上限額に達するまで助成することができる。 ・１事業所・施設に（１）①と（２）①・②の両方を助成することができる。
A35: ※１ 事業所・施設等について、助成の申請時点で指定等を受けている者であり、また
A36: ・ 各介護予防サービスを含むが、介護サービスと介護予防サービスの両方の指定を受けている場合は、１つの事業所・施設として取扱う。
A37: ・ 介護予防・日常生活支援総合事業（指定サービス・介護予防ケアマネジメント）を実施する事業所は、通所型は通所介護事業所（通常規模型）と、訪問型は訪問介護事業所と、
B38: 介護予防ケアマネジメントは居宅介護支援事業所と同じとするが、介護サービスと総合事業の両方の指定を受けている場合は、１つの事業所として取扱う。
A39: ・ 通所介護及び通所リハビリテーションの事業所規模は、介護報酬上の規模区分であり、助成の申請時点で判断すること。
A40: ※２ 利用者又は職員に感染者が発生しているか否かは問わない
...

Sheet 個票1
A1: （様式第3号）
A3: 介護事業所等に対するサービス継続支援事業に関する事業実施計画（報告）書（事業所単位）
A5: 施設概要
A7: 介護保険事業所番号 | H7: ○○ | O7: 事業所名称 | T7: 訪問介護事業所●●
A8: 所在地 | D8: 都道府県名 | H8: 住所 | T8: 連絡先 | W8: 電話番号 | AG8: 担当部署名
D9: 福島県 | H9: 福島市○○○ | W9: 024-521-○○○○ | AG9: 総務課
A10: 提供サービス（プルダウンから選択） | L10: 訪問介護事業所 上記以外であって、1月あたり延べ訪問回数201回以上2,000回以下 | AG10: 定員 | AL10: 人
A11: 事業区分 | J11: 介護事業所等に対するサービス継続支援事業 | Z11: 介護施設等に対するサービス継続支援事業
A13: 口座情報
A15: 介護分野の職員の賃上げ・職場環境改善支援事業に使用する口座情報を本事業の振込に使用することに同意する | X15: ✔ | AA15: 介護分野の職員の賃上げ・職場環境改善支援事業の申請 をしない場合は、左欄の✔を外して下さい。
A16: 介護分野の職員の賃上げ・職場環境改善支援事業に使用する口座は債権譲渡されていない | X16: ✔ | AA16: 債権譲渡されている場合は、左欄の✔を外して下さい。 ※債権譲渡されている場合、都道府県に申請して下さい。
A17: 銀行口座情報シートに本事業の振込に使用する口座情報を記入 | X17: ✔
A19: 申請にあたっての確認事項
A21: 見積書等の根拠資料は事業所において適切に保管している。 | X21: ✔
A22: 支出予定の費用について、重点支援交付金と重複は生じていない。 | X22: ✔
A24: 支出予定額
A26: １．介護事業所等に対するサービス継続支援事業 | AD26: 補助上限額 | AI26: 申請額
AD27: =IFERROR(VLOOKUP(L10,リスト!B2:D23,2,FALSE),IFERROR(VLOOKUP(L10,リスト!B24:D30,2,FALSE)*AJ10,"")) -> 400 | AG27: 千円 | AI27: =MIN(AD27,ROUNDDOWN((H35+H44)/1000,0)) -> 400 | AL27: 千円
A28: 【介護サービスを円滑に継続するための対応】
A29: 科目 | H29: 所要額（円） | M29: 用途 | T29: 品目 | AD29: 数量等
A30: 備品等購入費 | H30: 360000 | M30: 物価高騰対策 | T30: 燃料費、光熱水費、等 | AD30: 2台
A31: その他 | H31: 30000 | M31: 異常気象対策（気候変動の影響による猛暑など※寒冷、雪害対策等も可） | T31: ネッククーラ―、業務用スポットクーラー（ヒーター）、ホットカーペット等 | AD31: 5枚
H32: 50000 | M32: 入居者・利用者の生活環境、職員の負担軽減・勤務環境改善対策等 | T32: 換気扇・送風機、温度管理・湿度管理に必要な設備等
H33: 5000 | M33: その他※上記３件に該当しない、介護サービスを円滑に継続するための対応に係る経費 | T33: クマ対策用品、等
A35: 合計 | H35: =SUM(H30:L34) -> 445000
A37: 【災害備蓄等への対応】
A38: 科目 | H38: 所要額（円） | M38: 用途 | T38: 品目 | AD38: 数量等
A39: 備品等購入費 | H39: 50000 | M39: 備蓄物資 | T39: 食糧費備蓄物資 | AD39: 初期費用分
A40: その他 | H40: 200000 | M40: 災害時の電源確保 | T40: ポータブル発電機 | AD40: 1台
H41: 3000 | M41: 災害時の保健衛生に資する物品等 | T41: 衛生用品（アルコール手指消毒液、マスク、手袋等） | AD41: 20セット
A44: 合計 | H44: =SUM(H39:L43) -> 253000
A46: ２．介護施設等に対するサービス継続支援事業 | AD46: 補助上限額 | AI46: 申請額
AD47: =IFERROR(VLOOKUP(L10,リスト!B24:E30,4,FALSE)*AJ10,"") | AG47: 千円 | AI47: =IF(AD47="","",MIN(AD47,ROUNDDOWN(H55/1000,0))) | AL47: 千円
A49: 科目 | H49: 所要額（円） | M49: 用途・品目・数量等
A50: 需用費
A51: 役務費
A52: 委託料
A53: 使用料及び賃借料
A54: 備品購入費
A55: 合計 | H55: =SUM(H50:L54) -> 0
...

Sheet 個票2
A1: （様式第3号）
A3: 介護事業所等に対するサービス継続支援事業に関する事業実施計画（報告）書（事業所単位）
A5: 施設概要
A7: 介護保険事業所番号 | H7: ○○ | O7: 事業所名称 | T7: デイサービス■■
A8: 所在地 | D8: 都道府県名 | H8: 住所 | T8: 連絡先 | W8: 電話番号 | AG8: 担当部署名
D9: 福島県 | H9: 郡山市■■■ | W9: 024-521-○○○○ | AG9: 総務課
A10: 提供サービス（プルダウンから選択） | L10: 通所介護事業所 1月あたり延べ利用者数301人以上600人以下 | AG10: 定員 | AL10: 人
A11: 事業区分 | J11: 介護事業所等に対するサービス継続支援事業 | Z11: 介護施設等に対するサービス継続支援事業
A13: 口座情報
A15: 介護分野の職員の賃上げ・職場環境改善支援事業に使用する口座情報を本事業の振込に使用することに同意する | X15: ✔ | AA15: 介護分野の職員の賃上げ・職場環境改善支援事業の申請 をしない場合は、左欄の✔を外して下さい。
A16: 介護分野の職員の賃上げ・職場環境改善支援事業に使用する口座は債権譲渡されていない | X16: ✔ | AA16: 債権譲渡されている場合は、左欄の✔を外して下さい。 ※債権譲渡されている場合、都道府県に申請して下さい。
A17: 銀行口座情報シートに本事業の振込に使用する口座情報を記入 | X17: ✔
A19: 申請にあたっての確認事項
A21: 見積書等の根拠資料は事業所において適切に保管している。 | X21: ✔
A22: 支出予定の費用について、重点支援交付金と重複は生じていない。 | X22: ✔
A24: 支出予定額
A26: １．介護事業所等に対するサービス継続支援事業 | AD26: 補助上限額 | AI26: 申請額
AD27: =IFERROR(VLOOKUP(L10,リスト!B2:D23,2,FALSE),IFERROR(VLOOKUP(L10,リスト!B24:D30,2,FALSE)*AJ10,"")) -> 300 | AG27: 千円 | AI27: =MIN(AD27,ROUNDDOWN((H35+H44)/1000,0)) -> 0 | AL27: 千円
A28: 【介護サービスを円滑に継続するための対応】
A29: 科目 | H29: 所要額（円） | M29: 用途 | T29: 品目 | AD29: 数量等
A30: 備品等購入費
A35: 合計 | H35: =SUM(H30:L34) -> 0
A37: 【災害備蓄等への対応】
A38: 科目 | H38: 所要額（円） | M38: 用途 | T38: 品目 | AD38: 数量等
A39: 備品等購入費
A40: その他
A44: 合計 | H44: =SUM(H39:L43) -> 0
A46: ２．介護施設等に対するサービス継続支援事業 | AD46: 補助上限額 | AI46: 申請額
AD47: =IFERROR(VLOOKUP(L10,リスト!B24:E30,4,FALSE)*AJ10,"") | AG47: 千円 | AI47: =IF(AD47="","",MIN(AD47,ROUNDDOWN(H55/1000,0))) | AL47: 千円
A49: 科目 | H49: 所要額（円） | M49: 用途・品目・数量等
A50: 需用費
A51: 役務費
A52: 委託料
A53: 使用料及び賃借料
A54: 備品購入費
A55: 合計 | H55: =SUM(H50:L54) -> 0
A57: （注）申請額は、補助上限額と所要額を比較していずれか低い方の額が入力される。
A61: 【合計】 | H61: 所要額（円）
H62: =H35+H44 -> 0

Sheet 個票3
A1: （様式第3号）
A3: 介護事業所等に対するサービス継続支援事業に関する事業実施計画（報告）書（事業所単位）
A5: 施設概要
A7: 介護保険事業所番号 | H7: ○○ | O7: 事業所名称 | T7: 特別養護老人ホーム▲▲
A8: 所在地 | D8: 都道府県名 | H8: 住所 | T8: 連絡先 | W8: 電話番号 | AG8: 担当部署名
D9: 福島県 | H9: いわき市●● | W9: 0246-●●-●●●●
A10: 提供サービス（プルダウンから選択） | L10: 介護老人福祉施設 | AG10: 定員 | AJ10: 100 | AL10: 人
A11: 事業区分 | J11: 介護事業所等に対するサービス継続支援事業 | Z11: 介護施設等に対するサービス継続支援事業
A13: 口座情報
A15: 介護分野の職員の賃上げ・職場環境改善支援事業に使用する口座情報を本事業の振込に使用することに同意する | X15: ✔ | AA15: 介護分野の職員の賃上げ・職場環境改善支援事業の申請 をしない場合は、左欄の✔を外して下さい。
A16: 介護分野の職員の賃上げ・職場環境改善支援事業に使用する口座は債権譲渡されていない | X16: ✔ | AA16: 債権譲渡されている場合は、左欄の✔を外して下さい。 ※債権譲渡されている場合、都道府県に申請して下さい。
A17: 銀行口座情報シートに本事業の振込に使用する口座情報を記入 | X17: ✔
A19: 申請にあたっての確認事項
A21: 見積書等の根拠資料は事業所において適切に保管している。 | X21: ✔
A22: 支出予定の費用について、重点支援交付金と重複は生じていない。 | X22: ✔
A24: 支出予定額
A26: １．介護事業所等に対するサービス継続支援事業 | AD26: 補助上限額 | AI26: 申請額
AD27: =IFERROR(VLOOKUP(L10,リスト!B2:D23,2,FALSE),IFERROR(VLOOKUP(L10,リスト!B24:D30,2,FALSE)*AJ10,"")) -> 600 | AG27: 千円 | AI27: =MIN(AD27,ROUNDDOWN((H35+H44)/1000,0)) -> 0 | AL27: 千円
A28: 【介護サービスを円滑に継続するための対応】
A29: 科目 | H29: 所要額（円） | M29: 用途 | T29: 品目 | AD29: 数量等
A30: 備品等購入費
A35: 合計 | H35: =SUM(H30:L34) -> 0
A37: 【災害備蓄等への対応】
A38: 科目 | H38: 所要額（円） | M38: 用途 | T38: 品目 | AD38: 数量等
A39: 備品等購入費
A44: 合計 | H44: =SUM(H39:L43) -> 0
A46: ２．介護施設等に対するサービス継続支援事業 | AD46: 補助上限額 | AI46: 申請額
AD47: =IFERROR(VLOOKUP(L10,リスト!B24:E30,4,FALSE)*AJ10,"") -> 1800 | AG47: 千円 | AI47: =IF(AD47="","",MIN(AD47,ROUNDDOWN(H55/1000,0))) -> 0 | AL47: 千円
A49: 科目 | H49: 所要額（円） | M49: 用途・品目・数量等
A50: 需用費
A51: 役務費
A52: 委託料
A53: 使用料及び賃借料
A54: 備品購入費
A55: 合計 | H55: =SUM(H50:L54) -> 0
A57: （注）申請額は、補助上限額と所要額を比較していずれか低い方の額が入力される。
A61: 【合計】 | H61: 所要額（円）
H62: =H35+H44 -> 0

Sheet 個票4
A1: （様式第3号）
A3: 介護事業所等に対するサービス継続支援事業に関する事業実施計画（報告）書（事業所単位）
A5: 施設概要
A7: 介護保険事業所番号 | O7: 事業所名称
A8: 所在地 | D8: 都道府県名 | H8: 住所 | T8: 連絡先 | W8: 電話番号 | AG8: 担当部署名
D9: 福島県
A10: 提供サービス（プルダウンから選択） | AG10: 定員 | AL10: 人
A11: 事業区分 | J11: 介護事業所等に対するサービス継続支援事業 | Z11: 介護施設等に対するサービス継続支援事業
A13: 口座情報
A15: 介護分野の職員の賃上げ・職場環境改善支援事業に使用する口座情報を本事業の振込に使用することに同意する | X15: ✔ | AA15: 介護分野の職員の賃上げ・職場環境改善支援事業の申請 をしない場合は、左欄の✔を外して下さい。
A16: 介護分野の職員の賃上げ・職場環境改善支援事業に使用する口座は債権譲渡されていない | X16: ✔ | AA16: 債権譲渡されている場合は、左欄の✔を外して下さい。 ※債権譲渡されている場合、都道府県に申請して下さい。
A17: 銀行口座情報シートに本事業の振込に使用する口座情報を記入 | X17: ✔
A19: 申請にあたっての確認事項
A21: 見積書等の根拠資料は事業所において適切に保管している。 | X21: ✔
A22: 支出予定の費用について、重点支援交付金と重複は生じていない。 | X22: ✔
A24: 支出予定額
A26: １．介護事業所等に対するサービス継続支援事業 | AD26: 補助上限額 | AI26: 申請額
AD27: =IFERROR(VLOOKUP(L10,リスト!B2:D23,2,FALSE),IFERROR(VLOOKUP(L10,リスト!B24:D30,2,FALSE)*AJ10,"")) | AG27: 千円 | AI27: =MIN(AD27,ROUNDDOWN((H35+H44)/1000,0)) -> 0 | AL27: 千円
A28: 【介護サービスを円滑に継続するための対応】
A29: 科目 | H29: 所要額（円） | M29: 用途 | T29: 品目 | AD29: 数量等
A30: 備品等購入費
A31: その他
A35: 合計 | H35: =SUM(H30:L34) -> 0
A37: 【災害備蓄等への対応】
A38: 科目 | H38: 所要額（円） | M38: 用途 | T38: 品目 | AD38: 数量等
A39: 備品等購入費
A40: その他
A44: 合計 | H44: =SUM(H39:L43) -> 0
A46: ２．介護施設等に対するサービス継続支援事業 | AD46: 補助上限額 | AI46: 申請額
AD47: =IFERROR(VLOOKUP(L10,リスト!B24:E30,4,FALSE)*AJ10,"") | AG47: 千円 | AI47: =IF(AD47="","",MIN(AD47,ROUNDDOWN(H55/1000,0))) | AL47: 千円
A49: 科目 | H49: 所要額（円） | M49: 用途・品目・数量等
A50: 需用費
A51: 役務費
A52: 委託料
A53: 使用料及び賃借料
A54: 備品購入費
A55: 合計 | H55: =SUM(H50:L54) -> 0
A57: （注）申請額は、補助上限額と所要額を比較していずれか低い方の額が入力される。
A61: 【合計】 | H61: 所要額（円）
H62: =H35+H44 -> 0

Sheet 個票5
A1: （様式第3号）
A3: 介護事業所等に対するサービス継続支援事業に関する事業実施計画（報告）書（事業所単位）
A5: 施設概要
A7: 介護保険事業所番号 | O7: 事業所名称
A8: 所在地 | D8: 都道府県名 | H8: 住所 | T8: 連絡先 | W8: 電話番号 | AG8: 担当部署名
D9: 福島県
A10: 提供サービス（プルダウンから選択） | AG10: 定員 | AL10: 人
A11: 事業区分 | J11: 介護事業所等に対するサービス継続支援事業 | Z11: 介護施設等に対するサービス継続支援事業
A13: 口座情報
A15: 介護分野の職員の賃上げ・職場環境改善支援事業に使用する口座情報を本事業の振込に使用することに同意する | X15: ✔ | AA15: 介護分野の職員の賃上げ・職場環境改善支援事業の申請 をしない場合は、左欄の✔を外して下さい。
A16: 介護分野の職員の賃上げ・職場環境改善支援事業に使用する口座は債権譲渡されていない | X16: ✔ | AA16: 債権譲渡されている場合は、左欄の✔を外して下さい。 ※債権譲渡されている場合、都道府県に申請して下さい。
A17: 銀行口座情報シートに本事業の振込に使用する口座情報を記入 | X17: ✔
A19: 申請にあたっての確認事項
A21: 見積書等の根拠資料は事業所において適切に保管している。 | X21: ✔
A22: 支出予定の費用について、重点支援交付金と重複は生じていない。 | X22: ✔
A24: 支出予定額
A26: １．介護事業所等に対するサービス継続支援事業 | AD26: 補助上限額 | AI26: 申請額
AD27: =IFERROR(VLOOKUP(L10,リスト!B2:D23,2,FALSE),IFERROR(VLOOKUP(L10,リスト!B24:D30,2,FALSE)*AJ10,"")) | AG27: 千円 | AI27: =MIN(AD27,ROUNDDOWN((H35+H44)/1000,0)) -> 0 | AL27: 千円
A28: 【介護サービスを円滑に継続するための対応】
A29: 科目 | H29: 所要額（円） | M29: 用途 | T29: 品目 | AD29: 数量等
A30: 備品等購入費
A31: その他
A35: 合計 | H35: =SUM(H30:L34) -> 0
A37: 【災害備蓄等への対応】
A38: 科目 | H38: 所要額（円） | M38: 用途 | T38: 品目 | AD38: 数量等
A39: 備品等購入費
A40: その他
A44: 合計 | H44: =SUM(H39:L43) -> 0
A46: ２．介護施設等に対するサービス継続支援事業 | AD46: 補助上限額 | AI46: 申請額
AD47: =IFERROR(VLOOKUP(L10,リスト!B24:E30,4,FALSE)*AJ10,"") | AG47: 千円 | AI47: =IF(AD47="","",MIN(AD47,ROUNDDOWN(H55/1000,0))) | AL47: 千円
A49: 科目 | H49: 所要額（円） | M49: 用途・品目・数量等
A50: 需用費
A51: 役務費
A52: 委託料
A53: 使用料及び賃借料
A54: 備品購入費
A55: 合計 | H55: =SUM(H50:L54) -> 0
A57: （注）申請額は、補助上限額と所要額を比較していずれか低い方の額が入力される。
A61: 【合計】 | H61: 所要額（円）
H62: =H35+H44 -> 0

Sheet 個票6
A1: （様式第3号）
A3: 介護事業所等に対するサービス継続支援事業に関する事業実施計画（報告）書（事業所単位）
A5: 施設概要
A7: 介護保険事業所番号 | O7: 事業所名称
A8: 所在地 | D8: 都道府県名 | H8: 住所 | T8: 連絡先 | W8: 電話番号 | AG8: 担当部署名
D9: 福島県
A10: 提供サービス（プルダウンから選択） | AG10: 定員 | AL10: 人
A11: 事業区分 | J11: 介護事業所等に対するサービス継続支援事業 | Z11: 介護施設等に対するサービス継続支援事業
A13: 口座情報
A15: 介護分野の職員の賃上げ・職場環境改善支援事業に使用する口座情報を本事業の振込に使用することに同意する | X15: ✔ | AA15: 介護分野の職員の賃上げ・職場環境改善支援事業の申請 をしない場合は、左欄の✔を外して下さい。
A16: 介護分野の職員の賃上げ・職場環境改善支援事業に使用する口座は債権譲渡されていない | X16: ✔ | AA16: 債権譲渡されている場合は、左欄の✔を外して下さい。 ※債権譲渡されている場合、都道府県に申請して下さい。
A17: 銀行口座情報シートに本事業の振込に使用する口座情報を記入 | X17: ✔
A19: 申請にあたっての確認事項
A21: 見積書等の根拠資料は事業所において適切に保管している。 | X21: ✔
A22: 支出予定の費用について、重点支援交付金と重複は生じていない。 | X22: ✔
A24: 支出予定額
A26: １．介護事業所等に対するサービス継続支援事業 | AD26: 補助上限額 | AI26: 申請額
AD27: =IFERROR(VLOOKUP(L10,リスト!B2:D23,2,FALSE),IFERROR(VLOOKUP(L10,リスト!B24:D30,2,FALSE)*AJ10,"")) | AG27: 千円 | AI27: =MIN(AD27,ROUNDDOWN((H35+H44)/1000,0)) -> 0 | AL27: 千円
A28: 【介護サービスを円滑に継続するための対応】
A29: 科目 | H29: 所要額（円） | M29: 用途 | T29: 品目 | AD29: 数量等
A30: 備品等購入費
A31: その他
A35: 合計 | H35: =SUM(H30:L34) -> 0
A37: 【災害備蓄等への対応】
A38: 科目 | H38: 所要額（円） | M38: 用途 | T38: 品目 | AD38: 数量等
A39: 備品等購入費
A40: その他
A44: 合計 | H44: =SUM(H39:L43) -> 0
A46: ２．介護施設等に対するサービス継続支援事業 | AD46: 補助上限額 | AI46: 申請額
AD47: =IFERROR(VLOOKUP(L10,リスト!B24:E30,4,FALSE)*AJ10,"") | AG47: 千円 | AI47: =IF(AD47="","",MIN(AD47,ROUNDDOWN(H55/1000,0))) | AL47: 千円
A49: 科目 | H49: 所要額（円） | M49: 用途・品目・数量等
A50: 需用費
A51: 役務費
A52: 委託料
A53: 使用料及び賃借料
A54: 備品購入費
A55: 合計 | H55: =SUM(H50:L54) -> 0
A57: （注）申請額は、補助上限額と所要額を比較していずれか低い方の額が入力される。
A61: 【合計】 | H61: 所要額（円）
H62: =H35+H44 -> 0

Sheet 個票7
A1: （様式第3号）
A3: 介護事業所等に対するサービス継続支援事業に関する事業実施計画（報告）書（事業所単位）
A5: 施設概要
A7: 介護保険事業所番号 | O7: 事業所名称
A8: 所在地 | D8: 都道府県名 | H8: 住所 | T8: 連絡先 | W8: 電話番号 | AG8: 担当部署名
D9: 福島県
A10: 提供サービス（プルダウンから選択） | AG10: 定員 | AL10: 人
A11: 事業区分 | J11: 介護事業所等に対するサービス継続支援事業 | Z11: 介護施設等に対するサービス継続支援事業
A13: 口座情報
A15: 介護分野の職員の賃上げ・職場環境改善支援事業に使用する口座情報を本事業の振込に使用することに同意する | X15: ✔ | AA15: 介護分野の職員の賃上げ・職場環境改善支援事業の申請 をしない場合は、左欄の✔を外して下さい。
A16: 介護分野の職員の賃上げ・職場環境改善支援事業に使用する口座は債権譲渡されていない | X16: ✔ | AA16: 債権譲渡されている場合は、左欄の✔を外して下さい。 ※債権譲渡されている場合、都道府県に申請して下さい。
A17: 銀行口座情報シートに本事業の振込に使用する口座情報を記入 | X17: ✔
A19: 申請にあたっての確認事項
A21: 見積書等の根拠資料は事業所において適切に保管している。 | X21: ✔
A22: 支出予定の費用について、重点支援交付金と重複は生じていない。 | X22: ✔
A24: 支出予定額
A26: １．介護事業所等に対するサービス継続支援事業 | AD26: 補助上限額 | AI26: 申請額
AD27: =IFERROR(VLOOKUP(L10,リスト!B2:D23,2,FALSE),IFERROR(VLOOKUP(L10,リスト!B24:D30,2,FALSE)*AJ10,"")) | AG27: 千円 | AI27: =MIN(AD27,ROUNDDOWN((H35+H44)/1000,0)) -> 0 | AL27: 千円
A28: 【介護サービスを円滑に継続するための対応】
A29: 科目 | H29: 所要額（円） | M29: 用途 | T29: 品目 | AD29: 数量等
A30: 備品等購入費
A31: その他
A35: 合計 | H35: =SUM(H30:L34) -> 0
A37: 【災害備蓄等への対応】
A38: 科目 | H38: 所要額（円） | M38: 用途 | T38: 品目 | AD38: 数量等
A39: 備品等購入費
A40: その他
A44: 合計 | H44: =SUM(H39:L43) -> 0
A46: ２．介護施設等に対するサービス継続支援事業 | AD46: 補助上限額 | AI46: 申請額
AD47: =IFERROR(VLOOKUP(L10,リスト!B24:E30,4,FALSE)*AJ10,"") | AG47: 千円 | AI47: =IF(AD47="","",MIN(AD47,ROUNDDOWN(H55/1000,0))) | AL47: 千円
A49: 科目 | H49: 所要額（円） | M49: 用途・品目・数量等
A50: 需用費
A51: 役務費
A52: 委託料
A53: 使用料及び賃借料
A54: 備品購入費
A55: 合計 | H55: =SUM(H50:L54) -> 0
A57: （注）申請額は、補助上限額と所要額を比較していずれか低い方の額が入力される。
A61: 【合計】 | H61: 所要額（円）
H62: =H35+H44 -> 0

Sheet 個票8
A1: （様式第3号）
A3: 介護事業所等に対するサービス継続支援事業に関する事業実施計画（報告）書（事業所単位）
A5: 施設概要
A7: 介護保険事業所番号 | O7: 事業所名称
A8: 所在地 | D8: 都道府県名 | H8: 住所 | T8: 連絡先 | W8: 電話番号 | AG8: 担当部署名
D9: 福島県
A10: 提供サービス（プルダウンから選択） | AG10: 定員 | AL10: 人
A11: 事業区分 | J11: 介護事業所等に対するサービス継続支援事業 | Z11: 介護施設等に対するサービス継続支援事業
A13: 口座情報
A15: 介護分野の職員の賃上げ・職場環境改善支援事業に使用する口座情報を本事業の振込に使用することに同意する | X15: ✔ | AA15: 介護分野の職員の賃上げ・職場環境改善支援事業の申請 をしない場合は、左欄の✔を外して下さい。
A16: 介護分野の職員の賃上げ・職場環境改善支援事業に使用する口座は債権譲渡されていない | X16: ✔ | AA16: 債権譲渡されている場合は、左欄の✔を外して下さい。 ※債権譲渡されている場合、都道府県に申請して下さい。
A17: 銀行口座情報シートに本事業の振込に使用する口座情報を記入 | X17: ✔
A19: 申請にあたっての確認事項
A21: 見積書等の根拠資料は事業所において適切に保管している。 | X21: ✔
A22: 支出予定の費用について、重点支援交付金と重複は生じていない。 | X22: ✔
A24: 支出予定額
A26: １．介護事業所等に対するサービス継続支援事業 | AD26: 補助上限額 | AI26: 申請額
AD27: =IFERROR(VLOOKUP(L10,リスト!B2:D23,2,FALSE),IFERROR(VLOOKUP(L10,リスト!B24:D30,2,FALSE)*AJ10,"")) | AG27: 千円 | AI27: =MIN(AD27,ROUNDDOWN((H35+H44)/1000,0)) -> 0 | AL27: 千円
A28: 【介護サービスを円滑に継続するための対応】
A29: 科目 | H29: 所要額（円） | M29: 用途 | T29: 品目 | AD29: 数量等
A30: 備品等購入費
A31: その他
A35: 合計 | H35: =SUM(H30:L34) -> 0
A37: 【災害備蓄等への対応】
A38: 科目 | H38: 所要額（円） | M38: 用途 | T38: 品目 | AD38: 数量等
A39: 備品等購入費
A40: その他
A44: 合計 | H44: =SUM(H39:L43) -> 0
A46: ２．介護施設等に対するサービス継続支援事業 | AD46: 補助上限額 | AI46: 申請額
AD47: =IFERROR(VLOOKUP(L10,リスト!B24:E30,4,FALSE)*AJ10,"") | AG47: 千円 | AI47: =IF(AD47="","",MIN(AD47,ROUNDDOWN(H55/1000,0))) | AL47: 千円
A49: 科目 | H49: 所要額（円） | M49: 用途・品目・数量等
A50: 需用費
A51: 役務費
A52: 委託料
A53: 使用料及び賃借料
A54: 備品購入費
A55: 合計 | H55: =SUM(H50:L54) -> 0
A57: （注）申請額は、補助上限額と所要額を比較していずれか低い方の額が入力される。
A61: 【合計】 | H61: 所要額（円）
H62: =H35+H44 -> 0

Sheet 個票9
A1: （様式第3号）
A3: 介護事業所等に対するサービス継続支援事業に関する事業実施計画（報告）書（事業所単位）
A5: 施設概要
A7: 介護保険事業所番号 | O7: 事業所名称
A8: 所在地 | D8: 都道府県名 | H8: 住所 | T8: 連絡先 | W8: 電話番号 | AG8: 担当部署名
D9: 福島県
A10: 提供サービス（プルダウンから選択） | AG10: 定員 | AL10: 人
A11: 事業区分 | J11: 介護事業所等に対するサービス継続支援事業 | Z11: 介護施設等に対するサービス継続支援事業
A13: 口座情報
A15: 介護分野の職員の賃上げ・職場環境改善支援事業に使用する口座情報を本事業の振込に使用することに同意する | X15: ✔ | AA15: 介護分野の職員の賃上げ・職場環境改善支援事業の申請 をしない場合は、左欄の✔を外して下さい。
A16: 介護分野の職員の賃上げ・職場環境改善支援事業に使用する口座は債権譲渡されていない | X16: ✔ | AA16: 債権譲渡されている場合は、左欄の✔を外して下さい。 ※債権譲渡されている場合、都道府県に申請して下さい。
A17: 銀行口座情報シートに本事業の振込に使用する口座情報を記入 | X17: ✔
A19: 申請にあたっての確認事項
A21: 見積書等の根拠資料は事業所において適切に保管している。 | X21: ✔
A22: 支出予定の費用について、重点支援交付金と重複は生じていない。 | X22: ✔
A24: 支出予定額
A26: １．介護事業所等に対するサービス継続支援事業 | AD26: 補助上限額 | AI26: 申請額
AD27: =IFERROR(VLOOKUP(L10,リスト!B2:D23,2,FALSE),IFERROR(VLOOKUP(L10,リスト!B24:D30,2,FALSE)*AJ10,"")) | AG27: 千円 | AI27: =MIN(AD27,ROUNDDOWN((H35+H44)/1000,0)) -> 0 | AL27: 千円
A28: 【介護サービスを円滑に継続するための対応】
A29: 科目 | H29: 所要額（円） | M29: 用途 | T29: 品目 | AD29: 数量等
A30: 備品等購入費
A31: その他
A35: 合計 | H35: =SUM(H30:L34) -> 0
A37: 【災害備蓄等への対応】
A38: 科目 | H38: 所要額（円） | M38: 用途 | T38: 品目 | AD38: 数量等
A39: 備品等購入費
A40: その他
A44: 合計 | H44: =SUM(H39:L43) -> 0
A46: ２．介護施設等に対するサービス継続支援事業 | AD46: 補助上限額 | AI46: 申請額
AD47: =IFERROR(VLOOKUP(L10,リスト!B24:E30,4,FALSE)*AJ10,"") | AG47: 千円 | AI47: =IF(AD47="","",MIN(AD47,ROUNDDOWN(H55/1000,0))) | AL47: 千円
A49: 科目 | H49: 所要額（円） | M49: 用途・品目・数量等
A50: 需用費
A51: 役務費
A52: 委託料
A53: 使用料及び賃借料
A54: 備品購入費
A55: 合計 | H55: =SUM(H50:L54) -> 0
A57: （注）申請額は、補助上限額と所要額を比較していずれか低い方の額が入力される。
A61: 【合計】 | H61: 所要額（円）
H62: =H35+H44 -> 0

Sheet 個票10
A1: （様式第3号）
A3: 介護事業所等に対するサービス継続支援事業に関する事業実施計画（報告）書（事業所単位）
A5: 施設概要
A7: 介護保険事業所番号 | O7: 事業所名称
A8: 所在地 | D8: 都道府県名 | H8: 住所 | T8: 連絡先 | W8: 電話番号 | AG8: 担当部署名
D9: 福島県
A10: 提供サービス（プルダウンから選択） | AG10: 定員 | AL10: 人
A11: 事業区分 | J11: 介護事業所等に対するサービス継続支援事業 | Z11: 介護施設等に対するサービス継続支援事業
A13: 口座情報
A15: 介護分野の職員の賃上げ・職場環境改善支援事業に使用する口座情報を本事業の振込に使用することに同意する | X15: ✔ | AA15: 介護分野の職員の賃上げ・職場環境改善支援事業の申請 をしない場合は、左欄の✔を外して下さい。
A16: 介護分野の職員の賃上げ・職場環境改善支援事業に使用する口座は債権譲渡されていない | X16: ✔ | AA16: 債権譲渡されている場合は、左欄の✔を外して下さい。 ※債権譲渡されている場合、都道府県に申請して下さい。
A17: 銀行口座情報シートに本事業の振込に使用する口座情報を記入 | X17: ✔
A19: 申請にあたっての確認事項
A21: 見積書等の根拠資料は事業所において適切に保管している。 | X21: ✔
A22: 支出予定の費用について、重点支援交付金と重複は生じていない。 | X22: ✔
A24: 支出予定額
A26: １．介護事業所等に対するサービス継続支援事業 | AD26: 補助上限額 | AI26: 申請額
AD27: =IFERROR(VLOOKUP(L10,リスト!B2:D23,2,FALSE),IFERROR(VLOOKUP(L10,リスト!B24:D30,2,FALSE)*AJ10,"")) | AG27: 千円 | AI27: =MIN(AD27,ROUNDDOWN((H35+H44)/1000,0)) -> 0 | AL27: 千円
A28: 【介護サービスを円滑に継続するための対応】
A29: 科目 | H29: 所要額（円） | M29: 用途 | T29: 品目 | AD29: 数量等
A30: 備品等購入費
A31: その他
A35: 合計 | H35: =SUM(H30:L34) -> 0
A37: 【災害備蓄等への対応】
A38: 科目 | H38: 所要額（円） | M38: 用途 | T38: 品目 | AD38: 数量等
A39: 備品等購入費
A40: その他
A44: 合計 | H44: =SUM(H39:L43) -> 0
A46: ２．介護施設等に対するサービス継続支援事業 | AD46: 補助上限額 | AI46: 申請額
AD47: =IFERROR(VLOOKUP(L10,リスト!B24:E30,4,FALSE)*AJ10,"") | AG47: 千円 | AI47: =IF(AD47="","",MIN(AD47,ROUNDDOWN(H55/1000,0))) | AL47: 千円
A49: 科目 | H49: 所要額（円） | M49: 用途・品目・数量等
A50: 需用費
A51: 役務費
A52: 委託料
A53: 使用料及び賃借料
A54: 備品購入費
A55: 合計 | H55: =SUM(H50:L54) -> 0
A57: （注）申請額は、補助上限額と所要額を比較していずれか低い方の額が入力される。
A61: 【合計】 | H61: 所要額（円）
H62: =H35+H44 -> 0

Sheet 個票11
A1: （様式第3号）
A3: 介護事業所等に対するサービス継続支援事業に関する事業実施計画（報告）書（事業所単位）
A5: 施設概要
A7: 介護保険事業所番号 | O7: 事業所名称
A8: 所在地 | D8: 都道府県名 | H8: 住所 | T8: 連絡先 | W8: 電話番号 | AG8: 担当部署名
D9: 福島県
A10: 提供サービス（プルダウンから選択） | AG10: 定員 | AL10: 人
A11: 事業区分 | J11: 介護事業所等に対するサービス継続支援事業 | Z11: 介護施設等に対するサービス継続支援事業
A13: 口座情報
A15: 介護分野の職員の賃上げ・職場環境改善支援事業に使用する口座情報を本事業の振込に使用することに同意する | X15: ✔ | AA15: 介護分野の職員の賃上げ・職場環境改善支援事業の申請 をしない場合は、左欄の✔を外して下さい。
A16: 介護分野の職員の賃上げ・職場環境改善支援事業に使用する口座は債権譲渡されていない | X16: ✔ | AA16: 債権譲渡されている場合は、左欄の✔を外して下さい。 ※債権譲渡されている場合、都道府県に申請して下さい。
A17: 銀行口座情報シートに本事業の振込に使用する口座情報を記入 | X17: ✔
A19: 申請にあたっての確認事項
A21: 見積書等の根拠資料は事業所において適切に保管している。 | X21: ✔
A22: 支出予定の費用について、重点支援交付金と重複は生じていない。 | X22: ✔
A24: 支出予定額
A26: １．介護事業所等に対するサービス継続支援事業 | AD26: 補助上限額 | AI26: 申請額
AD27: =IFERROR(VLOOKUP(L10,リスト!B2:D23,2,FALSE),IFERROR(VLOOKUP(L10,リスト!B24:D30,2,FALSE)*AJ10,"")) | AG27: 千円 | AI27: =MIN(AD27,ROUNDDOWN((H35+H44)/1000,0)) -> 0 | AL27: 千円
A28: 【介護サービスを円滑に継続するための対応】
A29: 科目 | H29: 所要額（円） | M29: 用途 | T29: 品目 | AD29: 数量等
A30: 備品等購入費
A31: その他
A35: 合計 | H35: =SUM(H30:L34) -> 0
A37: 【災害備蓄等への対応】
A38: 科目 | H38: 所要額（円） | M38: 用途 | T38: 品目 | AD38: 数量等
A39: 備品等購入費
A40: その他
A44: 合計 | H44: =SUM(H39:L43) -> 0
A46: ２．介護施設等に対するサービス継続支援事業 | AD46: 補助上限額 | AI46: 申請額
AD47: =IFERROR(VLOOKUP(L10,リスト!B24:E30,4,FALSE)*AJ10,"") | AG47: 千円 | AI47: =IF(AD47="","",MIN(AD47,ROUNDDOWN(H55/1000,0))) | AL47: 千円
A49: 科目 | H49: 所要額（円） | M49: 用途・品目・数量等
A50: 需用費
A51: 役務費
A52: 委託料
A53: 使用料及び賃借料
A54: 備品購入費
A55: 合計 | H55: =SUM(H50:L54) -> 0
A57: （注）申請額は、補助上限額と所要額を比較していずれか低い方の額が入力される。
A61: 【合計】 | H61: 所要額（円）
H62: =H35+H44 -> 0

Sheet 個票12
A1: （様式第3号）
A3: 介護事業所等に対するサービス継続支援事業に関する事業実施計画（報告）書（事業所単位）
A5: 施設概要
A7: 介護保険事業所番号 | O7: 事業所名称
A8: 所在地 | D8: 都道府県名 | H8: 住所 | T8: 連絡先 | W8: 電話番号 | AG8: 担当部署名
D9: 福島県
A10: 提供サービス（プルダウンから選択） | AG10: 定員 | AL10: 人
A11: 事業区分 | J11: 介護事業所等に対するサービス継続支援事業 | Z11: 介護施設等に対するサービス継続支援事業
A13: 口座情報
A15: 介護分野の職員の賃上げ・職場環境改善支援事業に使用する口座情報を本事業の振込に使用することに同意する | X15: ✔ | AA15: 介護分野の職員の賃上げ・職場環境改善支援事業の申請 をしない場合は、左欄の✔を外して下さい。
A16: 介護分野の職員の賃上げ・職場環境改善支援事業に使用する口座は債権譲渡されていない | X16: ✔ | AA16: 債権譲渡されている場合は、左欄の✔を外して下さい。 ※債権譲渡されている場合、都道府県に申請して下さい。
A17: 銀行口座情報シートに本事業の振込に使用する口座情報を記入 | X17: ✔
A19: 申請にあたっての確認事項
A21: 見積書等の根拠資料は事業所において適切に保管している。 | X21: ✔
A22: 支出予定の費用について、重点支援交付金と重複は生じていない。 | X22: ✔
A24: 支出予定額
A26: １．介護事業所等に対するサービス継続支援事業 | AD26: 補助上限額 | AI26: 申請額
AD27: =IFERROR(VLOOKUP(L10,リスト!B2:D23,2,FALSE),IFERROR(VLOOKUP(L10,リスト!B24:D30,2,FALSE)*AJ10,"")) | AG27: 千円 | AI27: =MIN(AD27,ROUNDDOWN((H35+H44)/1000,0)) -> 0 | AL27: 千円
A28: 【介護サービスを円滑に継続するための対応】
A29: 科目 | H29: 所要額（円） | M29: 用途 | T29: 品目 | AD29: 数量等
A30: 備品等購入費
A31: その他
A35: 合計 | H35: =SUM(H30:L34) -> 0
A37: 【災害備蓄等への対応】
A38: 科目 | H38: 所要額（円） | M38: 用途 | T38: 品目 | AD38: 数量等
A39: 備品等購入費
A40: その他
A44: 合計 | H44: =SUM(H39:L43) -> 0
A46: ２．介護施設等に対するサービス継続支援事業 | AD46: 補助上限額 | AI46: 申請額
AD47: =IFERROR(VLOOKUP(L10,リスト!B24:E30,4,FALSE)*AJ10,"") | AG47: 千円 | AI47: =IF(AD47="","",MIN(AD47,ROUNDDOWN(H55/1000,0))) | AL47: 千円
A49: 科目 | H49: 所要額（円） | M49: 用途・品目・数量等
A50: 需用費
A51: 役務費
A52: 委託料
A53: 使用料及び賃借料
A54: 備品購入費
A55: 合計 | H55: =SUM(H50:L54) -> 0
A57: （注）申請額は、補助上限額と所要額を比較していずれか低い方の額が入力される。
A61: 【合計】 | H61: 所要額（円）
H62: =H35+H44 -> 0

Sheet 個票13
A1: （様式第3号）
A3: 介護事業所等に対するサービス継続支援事業に関する事業実施計画（報告）書（事業所単位）
A5: 施設概要
A7: 介護保険事業所番号 | O7: 事業所名称
A8: 所在地 | D8: 都道府県名 | H8: 住所 | T8: 連絡先 | W8: 電話番号 | AG8: 担当部署名
D9: 福島県
A10: 提供サービス（プルダウンから選択） | AG10: 定員 | AL10: 人
A11: 事業区分 | J11: 介護事業所等に対するサービス継続支援事業 | Z11: 介護施設等に対するサービス継続支援事業
A13: 口座情報
A15: 介護分野の職員の賃上げ・職場環境改善支援事業に使用する口座情報を本事業の振込に使用することに同意する | X15: ✔ | AA15: 介護分野の職員の賃上げ・職場環境改善支援事業の申請 をしない場合は、左欄の✔を外して下さい。
A16: 介護分野の職員の賃上げ・職場環境改善支援事業に使用する口座は債権譲渡されていない | X16: ✔ | AA16: 債権譲渡されている場合は、左欄の✔を外して下さい。 ※債権譲渡されている場合、都道府県に申請して下さい。
A17: 銀行口座情報シートに本事業の振込に使用する口座情報を記入 | X17: ✔
A19: 申請にあたっての確認事項
A21: 見積書等の根拠資料は事業所において適切に保管している。 | X21: ✔
A22: 支出予定の費用について、重点支援交付金と重複は生じていない。 | X22: ✔
A24: 支出予定額
A26: １．介護事業所等に対するサービス継続支援事業 | AD26: 補助上限額 | AI26: 申請額
AD27: =IFERROR(VLOOKUP(L10,リスト!B2:D23,2,FALSE),IFERROR(VLOOKUP(L10,リスト!B24:D30,2,FALSE)*AJ10,"")) | AG27: 千円 | AI27: =MIN(AD27,ROUNDDOWN((H35+H44)/1000,0)) -> 0 | AL27: 千円
A28: 【介護サービスを円滑に継続するための対応】
A29: 科目 | H29: 所要額（円） | M29: 用途 | T29: 品目 | AD29: 数量等
A30: 備品等購入費
A31: その他
A35: 合計 | H35: =SUM(H30:L34) -> 0
A37: 【災害備蓄等への対応】
A38: 科目 | H38: 所要額（円） | M38: 用途 | T38: 品目 | AD38: 数量等
A39: 備品等購入費
A40: その他
A44: 合計 | H44: =SUM(H39:L43) -> 0
A46: ２．介護施設等に対するサービス継続支援事業 | AD46: 補助上限額 | AI46: 申請額
AD47: =IFERROR(VLOOKUP(L10,リスト!B24:E30,4,FALSE)*AJ10,"") | AG47: 千円 | AI47: =IF(AD47="","",MIN(AD47,ROUNDDOWN(H55/1000,0))) | AL47: 千円
A49: 科目 | H49: 所要額（円） | M49: 用途・品目・数量等
A50: 需用費
A51: 役務費
A52: 委託料
A53: 使用料及び賃借料
A54: 備品購入費
A55: 合計 | H55: =SUM(H50:L54) -> 0
A57: （注）申請額は、補助上限額と所要額を比較していずれか低い方の額が入力される。
A61: 【合計】 | H61: 所要額（円）
H62: =H35+H44 -> 0

Sheet 個票14
A1: （様式第3号）
A3: 介護事業所等に対するサービス継続支援事業に関する事業実施計画（報告）書（事業所単位）
A5: 施設概要
A7: 介護保険事業所番号 | O7: 事業所名称
A8: 所在地 | D8: 都道府県名 | H8: 住所 | T8: 連絡先 | W8: 電話番号 | AG8: 担当部署名
D9: 福島県
A10: 提供サービス（プルダウンから選択） | AG10: 定員 | AL10: 人
A11: 事業区分 | J11: 介護事業所等に対するサービス継続支援事業 | Z11: 介護施設等に対するサービス継続支援事業
A13: 口座情報
A15: 介護分野の職員の賃上げ・職場環境改善支援事業に使用する口座情報を本事業の振込に使用することに同意する | X15: ✔ | AA15: 介護分野の職員の賃上げ・職場環境改善支援事業の申請 をしない場合は、左欄の✔を外して下さい。
A16: 介護分野の職員の賃上げ・職場環境改善支援事業に使用する口座は債権譲渡されていない | X16: ✔ | AA16: 債権譲渡されている場合は、左欄の✔を外して下さい。 ※債権譲渡されている場合、都道府県に申請して下さい。
A17: 銀行口座情報シートに本事業の振込に使用する口座情報を記入 | X17: ✔
A19: 申請にあたっての確認事項
A21: 見積書等の根拠資料は事業所において適切に保管している。 | X21: ✔
A22: 支出予定の費用について、重点支援交付金と重複は生じていない。 | X22: ✔
A24: 支出予定額
A26: １．介護事業所等に対するサービス継続支援事業 | AD26: 補助上限額 | AI26: 申請額
AD27: =IFERROR(VLOOKUP(L10,リスト!B2:D23,2,FALSE),IFERROR(VLOOKUP(L10,リスト!B24:D30,2,FALSE)*AJ10,"")) | AG27: 千円 | AI27: =MIN(AD27,ROUNDDOWN((H35+H44)/1000,0)) -> 0 | AL27: 千円
A28: 【介護サービスを円滑に継続するための対応】
A29: 科目 | H29: 所要額（円） | M29: 用途 | T29: 品目 | AD29: 数量等
A30: 備品等購入費
A31: その他
A35: 合計 | H35: =SUM(H30:L34) -> 0
A37: 【災害備蓄等への対応】
A38: 科目 | H38: 所要額（円） | M38: 用途 | T38: 品目 | AD38: 数量等
A39: 備品等購入費
A40: その他
A44: 合計 | H44: =SUM(H39:L43) -> 0
A46: ２．介護施設等に対するサービス継続支援事業 | AD46: 補助上限額 | AI46: 申請額
AD47: =IFERROR(VLOOKUP(L10,リスト!B24:E30,4,FALSE)*AJ10,"") | AG47: 千円 | AI47: =IF(AD47="","",MIN(AD47,ROUNDDOWN(H55/1000,0))) | AL47: 千円
A49: 科目 | H49: 所要額（円） | M49: 用途・品目・数量等
A50: 需用費
A51: 役務費
A52: 委託料
A53: 使用料及び賃借料
A54: 備品購入費
A55: 合計 | H55: =SUM(H50:L54) -> 0
A57: （注）申請額は、補助上限額と所要額を比較していずれか低い方の額が入力される。
A61: 【合計】 | H61: 所要額（円）
H62: =H35+H44 -> 0

Sheet 個票15
A1: （様式第3号）
A3: 介護事業所等に対するサービス継続支援事業に関する事業実施計画（報告）書（事業所単位）
A5: 施設概要
A7: 介護保険事業所番号 | O7: 事業所名称
A8: 所在地 | D8: 都道府県名 | H8: 住所 | T8: 連絡先 | W8: 電話番号 | AG8: 担当部署名
D9: 福島県
A10: 提供サービス（プルダウンから選択） | AG10: 定員 | AL10: 人
A11: 事業区分 | J11: 介護事業所等に対するサービス継続支援事業 | Z11: 介護施設等に対するサービス継続支援事業
A13: 口座情報
A15: 介護分野の職員の賃上げ・職場環境改善支援事業に使用する口座情報を本事業の振込に使用することに同意する | X15: ✔ | AA15: 介護分野の職員の賃上げ・職場環境改善支援事業の申請 をしない場合は、左欄の✔を外して下さい。
A16: 介護分野の職員の賃上げ・職場環境改善支援事業に使用する口座は債権譲渡されていない | X16: ✔ | AA16: 債権譲渡されている場合は、左欄の✔を外して下さい。 ※債権譲渡されている場合、都道府県に申請して下さい。
A17: 銀行口座情報シートに本事業の振込に使用する口座情報を記入 | X17: ✔
A19: 申請にあたっての確認事項
A21: 見積書等の根拠資料は事業所において適切に保管している。 | X21: ✔
A22: 支出予定の費用について、重点支援交付金と重複は生じていない。 | X22: ✔
A24: 支出予定額
A26: １．介護事業所等に対するサービス継続支援事業 | AD26: 補助上限額 | AI26: 申請額
AD27: =IFERROR(VLOOKUP(L10,リスト!B2:D23,2,FALSE),IFERROR(VLOOKUP(L10,リスト!B24:D30,2,FALSE)*AJ10,"")) | AG27: 千円 | AI27: =MIN(AD27,ROUNDDOWN((H35+H44)/1000,0)) -> 0 | AL27: 千円
A28: 【介護サービスを円滑に継続するための対応】
A29: 科目 | H29: 所要額（円） | M29: 用途 | T29: 品目 | AD29: 数量等
A30: 備品等購入費
A31: その他
A35: 合計 | H35: =SUM(H30:L34) -> 0
A37: 【災害備蓄等への対応】
A38: 科目 | H38: 所要額（円） | M38: 用途 | T38: 品目 | AD38: 数量等
A39: 備品等購入費
A40: その他
A44: 合計 | H44: =SUM(H39:L43) -> 0
A46: ２．介護施設等に対するサービス継続支援事業 | AD46: 補助上限額 | AI46: 申請額
AD47: =IFERROR(VLOOKUP(L10,リスト!B24:E30,4,FALSE)*AJ10,"") | AG47: 千円 | AI47: =IF(AD47="","",MIN(AD47,ROUNDDOWN(H55/1000,0))) | AL47: 千円
A49: 科目 | H49: 所要額（円） | M49: 用途・品目・数量等
A50: 需用費
A51: 役務費
A52: 委託料
A53: 使用料及び賃借料
A54: 備品購入費
A55: 合計 | H55: =SUM(H50:L54) -> 0
A57: （注）申請額は、補助上限額と所要額を比較していずれか低い方の額が入力される。
A61: 【合計】 | H61: 所要額（円）
H62: =H35+H44 -> 0

Sheet 個票16
A1: （様式第3号）
A3: 介護事業所等に対するサービス継続支援事業に関する事業実施計画（報告）書（事業所単位）
A5: 施設概要
A7: 介護保険事業所番号 | O7: 事業所名称
A8: 所在地 | D8: 都道府県名 | H8: 住所 | T8: 連絡先 | W8: 電話番号 | AG8: 担当部署名
D9: 福島県
A10: 提供サービス（プルダウンから選択） | AG10: 定員 | AL10: 人
A11: 事業区分 | J11: 介護事業所等に対するサービス継続支援事業 | Z11: 介護施設等に対するサービス継続支援事業
A13: 口座情報
A15: 介護分野の職員の賃上げ・職場環境改善支援事業に使用する口座情報を本事業の振込に使用することに同意する | X15: ✔ | AA15: 介護分野の職員の賃上げ・職場環境改善支援事業の申請 をしない場合は、左欄の✔を外して下さい。
A16: 介護分野の職員の賃上げ・職場環境改善支援事業に使用する口座は債権譲渡されていない | X16: ✔ | AA16: 債権譲渡されている場合は、左欄の✔を外して下さい。 ※債権譲渡されている場合、都道府県に申請して下さい。
A17: 銀行口座情報シートに本事業の振込に使用する口座情報を記入 | X17: ✔
A19: 申請にあたっての確認事項
A21: 見積書等の根拠資料は事業所において適切に保管している。 | X21: ✔
A22: 支出予定の費用について、重点支援交付金と重複は生じていない。 | X22: ✔
A24: 支出予定額
A26: １．介護事業所等に対するサービス継続支援事業 | AD26: 補助上限額 | AI26: 申請額
AD27: =IFERROR(VLOOKUP(L10,リスト!B2:D23,2,FALSE),IFERROR(VLOOKUP(L10,リスト!B24:D30,2,FALSE)*AJ10,"")) | AG27: 千円 | AI27: =MIN(AD27,ROUNDDOWN((H35+H44)/1000,0)) -> 0 | AL27: 千円
A28: 【介護サービスを円滑に継続するための対応】
A29: 科目 | H29: 所要額（円） | M29: 用途 | T29: 品目 | AD29: 数量等
A30: 備品等購入費
A31: その他
A35: 合計 | H35: =SUM(H30:L34) -> 0
A37: 【災害備蓄等への対応】
A38: 科目 | H38: 所要額（円） | M38: 用途 | T38: 品目 | AD38: 数量等
A39: 備品等購入費
A40: その他
A44: 合計 | H44: =SUM(H39:L43) -> 0
A46: ２．介護施設等に対するサービス継続支援事業 | AD46: 補助上限額 | AI46: 申請額
AD47: =IFERROR(VLOOKUP(L10,リスト!B24:E30,4,FALSE)*AJ10,"") | AG47: 千円 | AI47: =IF(AD47="","",MIN(AD47,ROUNDDOWN(H55/1000,0))) | AL47: 千円
A49: 科目 | H49: 所要額（円） | M49: 用途・品目・数量等
A50: 需用費
A51: 役務費
A52: 委託料
A53: 使用料及び賃借料
A54: 備品購入費
A55: 合計 | H55: =SUM(H50:L54) -> 0
A57: （注）申請額は、補助上限額と所要額を比較していずれか低い方の額が入力される。
A61: 【合計】 | H61: 所要額（円）
H62: =H35+H44 -> 0

Sheet 個票17
A1: （様式第3号）
A3: 介護事業所等に対するサービス継続支援事業に関する事業実施計画（報告）書（事業所単位）
A5: 施設概要
A7: 介護保険事業所番号 | O7: 事業所名称
A8: 所在地 | D8: 都道府県名 | H8: 住所 | T8: 連絡先 | W8: 電話番号 | AG8: 担当部署名
D9: 福島県
A10: 提供サービス（プルダウンから選択） | AG10: 定員 | AL10: 人
A11: 事業区分 | J11: 介護事業所等に対するサービス継続支援事業 | Z11: 介護施設等に対するサービス継続支援事業
A13: 口座情報
A15: 介護分野の職員の賃上げ・職場環境改善支援事業に使用する口座情報を本事業の振込に使用することに同意する | X15: ✔ | AA15: 介護分野の職員の賃上げ・職場環境改善支援事業の申請 をしない場合は、左欄の✔を外して下さい。
A16: 介護分野の職員の賃上げ・職場環境改善支援事業に使用する口座は債権譲渡されていない | X16: ✔ | AA16: 債権譲渡されている場合は、左欄の✔を外して下さい。 ※債権譲渡されている場合、都道府県に申請して下さい。
A17: 銀行口座情報シートに本事業の振込に使用する口座情報を記入 | X17: ✔
A19: 申請にあたっての確認事項
A21: 見積書等の根拠資料は事業所において適切に保管している。 | X21: ✔
A22: 支出予定の費用について、重点支援交付金と重複は生じていない。 | X22: ✔
A24: 支出予定額
A26: １．介護事業所等に対するサービス継続支援事業 | AD26: 補助上限額 | AI26: 申請額
AD27: =IFERROR(VLOOKUP(L10,リスト!B2:D23,2,FALSE),IFERROR(VLOOKUP(L10,リスト!B24:D30,2,FALSE)*AJ10,"")) | AG27: 千円 | AI27: =MIN(AD27,ROUNDDOWN((H35+H44)/1000,0)) -> 0 | AL27: 千円
A28: 【介護サービスを円滑に継続するための対応】
A29: 科目 | H29: 所要額（円） | M29: 用途 | T29: 品目 | AD29: 数量等
A30: 備品等購入費
A31: その他
A35: 合計 | H35: =SUM(H30:L34) -> 0
A37: 【災害備蓄等への対応】
A38: 科目 | H38: 所要額（円） | M38: 用途 | T38: 品目 | AD38: 数量等
A39: 備品等購入費
A40: その他
A44: 合計 | H44: =SUM(H39:L43) -> 0
A46: ２．介護施設等に対するサービス継続支援事業 | AD46: 補助上限額 | AI46: 申請額
AD47: =IFERROR(VLOOKUP(L10,リスト!B24:E30,4,FALSE)*AJ10,"") | AG47: 千円 | AI47: =IF(AD47="","",MIN(AD47,ROUNDDOWN(H55/1000,0))) | AL47: 千円
A49: 科目 | H49: 所要額（円） | M49: 用途・品目・数量等
A50: 需用費
A51: 役務費
A52: 委託料
A53: 使用料及び賃借料
A54: 備品購入費
A55: 合計 | H55: =SUM(H50:L54) -> 0
A57: （注）申請額は、補助上限額と所要額を比較していずれか低い方の額が入力される。
A61: 【合計】 | H61: 所要額（円）
H62: =H35+H44 -> 0

Sheet 個票18
A1: （様式第3号）
A3: 介護事業所等に対するサービス継続支援事業に関する事業実施計画（報告）書（事業所単位）
A5: 施設概要
A7: 介護保険事業所番号 | O7: 事業所名称
A8: 所在地 | D8: 都道府県名 | H8: 住所 | T8: 連絡先 | W8: 電話番号 | AG8: 担当部署名
D9: 福島県
A10: 提供サービス（プルダウンから選択） | AG10: 定員 | AL10: 人
A11: 事業区分 | J11: 介護事業所等に対するサービス継続支援事業 | Z11: 介護施設等に対するサービス継続支援事業
A13: 口座情報
A15: 介護分野の職員の賃上げ・職場環境改善支援事業に使用する口座情報を本事業の振込に使用することに同意する | X15: ✔ | AA15: 介護分野の職員の賃上げ・職場環境改善支援事業の申請 をしない場合は、左欄の✔を外して下さい。
A16: 介護分野の職員の賃上げ・職場環境改善支援事業に使用する口座は債権譲渡されていない | X16: ✔ | AA16: 債権譲渡されている場合は、左欄の✔を外して下さい。 ※債権譲渡されている場合、都道府県に申請して下さい。
A17: 銀行口座情報シートに本事業の振込に使用する口座情報を記入 | X17: ✔
A19: 申請にあたっての確認事項
A21: 見積書等の根拠資料は事業所において適切に保管している。 | X21: ✔
A22: 支出予定の費用について、重点支援交付金と重複は生じていない。 | X22: ✔
A24: 支出予定額
A26: １．介護事業所等に対するサービス継続支援事業 | AD26: 補助上限額 | AI26: 申請額
AD27: =IFERROR(VLOOKUP(L10,リスト!B2:D23,2,FALSE),IFERROR(VLOOKUP(L10,リスト!B24:D30,2,FALSE)*AJ10,"")) | AG27: 千円 | AI27: =MIN(AD27,ROUNDDOWN((H35+H44)/1000,0)) -> 0 | AL27: 千円
A28: 【介護サービスを円滑に継続するための対応】
A29: 科目 | H29: 所要額（円） | M29: 用途 | T29: 品目 | AD29: 数量等
A30: 備品等購入費
A31: その他
A35: 合計 | H35: =SUM(H30:L34) -> 0
A37: 【災害備蓄等への対応】
A38: 科目 | H38: 所要額（円） | M38: 用途 | T38: 品目 | AD38: 数量等
A39: 備品等購入費
A40: その他
A44: 合計 | H44: =SUM(H39:L43) -> 0
A46: ２．介護施設等に対するサービス継続支援事業 | AD46: 補助上限額 | AI46: 申請額
AD47: =IFERROR(VLOOKUP(L10,リスト!B24:E30,4,FALSE)*AJ10,"") | AG47: 千円 | AI47: =IF(AD47="","",MIN(AD47,ROUNDDOWN(H55/1000,0))) | AL47: 千円
A49: 科目 | H49: 所要額（円） | M49: 用途・品目・数量等
A50: 需用費
A51: 役務費
A52: 委託料
A53: 使用料及び賃借料
A54: 備品購入費
A55: 合計 | H55: =SUM(H50:L54) -> 0
A57: （注）申請額は、補助上限額と所要額を比較していずれか低い方の額が入力される。
A61: 【合計】 | H61: 所要額（円）
H62: =H35+H44 -> 0

Sheet 個票19
A1: （様式第3号）
A3: 介護事業所等に対するサービス継続支援事業に関する事業実施計画（報告）書（事業所単位）
A5: 施設概要
A7: 介護保険事業所番号 | O7: 事業所名称
A8: 所在地 | D8: 都道府県名 | H8: 住所 | T8: 連絡先 | W8: 電話番号 | AG8: 担当部署名
D9: 福島県
A10: 提供サービス（プルダウンから選択） | AG10: 定員 | AL10: 人
A11: 事業区分 | J11: 介護事業所等に対するサービス継続支援事業 | Z11: 介護施設等に対するサービス継続支援事業
A13: 口座情報
A15: 介護分野の職員の賃上げ・職場環境改善支援事業に使用する口座情報を本事業の振込に使用することに同意する | X15: ✔ | AA15: 介護分野の職員の賃上げ・職場環境改善支援事業の申請 をしない場合は、左欄の✔を外して下さい。
A16: 介護分野の職員の賃上げ・職場環境改善支援事業に使用する口座は債権譲渡されていない | X16: ✔ | AA16: 債権譲渡されている場合は、左欄の✔を外して下さい。 ※債権譲渡されている場合、都道府県に申請して下さい。
A17: 銀行口座情報シートに本事業の振込に使用する口座情報を記入 | X17: ✔
A19: 申請にあたっての確認事項
A21: 見積書等の根拠資料は事業所において適切に保管している。 | X21: ✔
A22: 支出予定の費用について、重点支援交付金と重複は生じていない。 | X22: ✔
A24: 支出予定額
A26: １．介護事業所等に対するサービス継続支援事業 | AD26: 補助上限額 | AI26: 申請額
AD27: =IFERROR(VLOOKUP(L10,リスト!B2:D23,2,FALSE),IFERROR(VLOOKUP(L10,リスト!B24:D30,2,FALSE)*AJ10,"")) | AG27: 千円 | AI27: =MIN(AD27,ROUNDDOWN((H35+H44)/1000,0)) -> 0 | AL27: 千円
A28: 【介護サービスを円滑に継続するための対応】
A29: 科目 | H29: 所要額（円） | M29: 用途 | T29: 品目 | AD29: 数量等
A30: 備品等購入費
A31: その他
A35: 合計 | H35: =SUM(H30:L34) -> 0
A37: 【災害備蓄等への対応】
A38: 科目 | H38: 所要額（円） | M38: 用途 | T38: 品目 | AD38: 数量等
A39: 備品等購入費
A40: その他
A44: 合計 | H44: =SUM(H39:L43) -> 0
A46: ２．介護施設等に対するサービス継続支援事業 | AD46: 補助上限額 | AI46: 申請額
AD47: =IFERROR(VLOOKUP(L10,リスト!B24:E30,4,FALSE)*AJ10,"") | AG47: 千円 | AI47: =IF(AD47="","",MIN(AD47,ROUNDDOWN(H55/1000,0))) | AL47: 千円
A49: 科目 | H49: 所要額（円） | M49: 用途・品目・数量等
A50: 需用費
A51: 役務費
A52: 委託料
A53: 使用料及び賃借料
A54: 備品購入費
A55: 合計 | H55: =SUM(H50:L54) -> 0
A57: （注）申請額は、補助上限額と所要額を比較していずれか低い方の額が入力される。
A61: 【合計】 | H61: 所要額（円）
H62: =H35+H44 -> 0

Sheet 個票20
A1: （様式第3号）
A3: 介護事業所等に対するサービス継続支援事業に関する事業実施計画（報告）書（事業所単位）
A5: 施設概要
A7: 介護保険事業所番号 | O7: 事業所名称
A8: 所在地 | D8: 都道府県名 | H8: 住所 | T8: 連絡先 | W8: 電話番号 | AG8: 担当部署名
D9: 福島県
A10: 提供サービス（プルダウンから選択） | AG10: 定員 | AL10: 人
A11: 事業区分 | J11: 介護事業所等に対するサービス継続支援事業 | Z11: 介護施設等に対するサービス継続支援事業
A13: 口座情報
A15: 介護分野の職員の賃上げ・職場環境改善支援事業に使用する口座情報を本事業の振込に使用することに同意する | X15: ✔ | AA15: 介護分野の職員の賃上げ・職場環境改善支援事業の申請 をしない場合は、左欄の✔を外して下さい。
A16: 介護分野の職員の賃上げ・職場環境改善支援事業に使用する口座は債権譲渡されていない | X16: ✔ | AA16: 債権譲渡されている場合は、左欄の✔を外して下さい。 ※債権譲渡されている場合、都道府県に申請して下さい。
A17: 銀行口座情報シートに本事業の振込に使用する口座情報を記入 | X17: ✔
A19: 申請にあたっての確認事項
A21: 見積書等の根拠資料は事業所において適切に保管している。 | X21: ✔
A22: 支出予定の費用について、重点支援交付金と重複は生じていない。 | X22: ✔
A24: 支出予定額
A26: １．介護事業所等に対するサービス継続支援事業 | AD26: 補助上限額 | AI26: 申請額
AD27: =IFERROR(VLOOKUP(L10,リスト!B2:D23,2,FALSE),IFERROR(VLOOKUP(L10,リスト!B24:D30,2,FALSE)*AJ10,"")) | AG27: 千円 | AI27: =MIN(AD27,ROUNDDOWN((H35+H44)/1000,0)) -> 0 | AL27: 千円
A28: 【介護サービスを円滑に継続するための対応】
A29: 科目 | H29: 所要額（円） | M29: 用途 | T29: 品目 | AD29: 数量等
A30: 備品等購入費
A31: その他
A35: 合計 | H35: =SUM(H30:L34) -> 0
A37: 【災害備蓄等への対応】
A38: 科目 | H38: 所要額（円） | M38: 用途 | T38: 品目 | AD38: 数量等
A39: 備品等購入費
A40: その他
A44: 合計 | H44: =SUM(H39:L43) -> 0
A46: ２．介護施設等に対するサービス継続支援事業 | AD46: 補助上限額 | AI46: 申請額
AD47: =IFERROR(VLOOKUP(L10,リスト!B24:E30,4,FALSE)*AJ10,"") | AG47: 千円 | AI47: =IF(AD47="","",MIN(AD47,ROUNDDOWN(H55/1000,0))) | AL47: 千円
A49: 科目 | H49: 所要額（円） | M49: 用途・品目・数量等
A50: 需用費
A51: 役務費
A52: 委託料
A53: 使用料及び賃借料
A54: 備品購入費
A55: 合計 | H55: =SUM(H50:L54) -> 0
A57: （注）申請額は、補助上限額と所要額を比較していずれか低い方の額が入力される。
A61: 【合計】 | H61: 所要額（円）
H62: =H35+H44 -> 0

Sheet 銀行口座情報
A1: （様式第4号 振込口座情報）
K3: 住所
K4: 〒 | O4: －
K5: =申請書!AB33 -> 福島市○○町○-○
K6: 法人名 | M6: =申請書!Y7 -> 社会福祉法人○○○○
K7: 代表者 役職名 | M7: =申請書!Y8 -> 理事長 ○○ ○○
J9: ※１ 上記は国庫金振込通知書の発送先となります。
A12: 振込先口座（注意：国庫金を取り扱っていない銀行には振込できません）
B14: カナ口座名義（法人名） ※通帳に表記されているカナ口座名義を記入
B16: ゆうちょ銀行以外の金融機関
B17: 金融機関名 | L17: 支店名 | AB17: "本店"の場合には、プルダウンリストから"本店"を選択すること。
B18: 金融機関コード ※"0"を省略せずに 必ず４桁で記入 | L18: 店舗コード ※"0"を省略せずに 必ず３桁で記入
B19: 預金種類 ※普通預金、当座預金、別段預金のいずれかを記入 | L19: 口座番号 ※必ず７桁で記入。７桁未満の 場合は、頭に"0"を付けて ７桁にすること。
B21: ゆうちょ銀行（通帳に表記されている記号５桁及び番号８桁を記入）
C22: 例）記号 １２３４０－１ → ２３４ の部分を記入（１桁目の１と５桁目の０は固定なので記入不要、－１は記入不要）
C23: 番号 １２３４５６７１ → １２３４５６７ まで記入（８桁目の１は固定なので記入不要）
B24: ゆうちょ銀行 | F24: 店名 | O24: 店番
F25: 口座番号 | O25: 預金種目
F26: 記号 | H26: 1 | L26: 0
F27: 番号 | O27: 1 | P27: ※番号が８桁未満の場合は、頭に”０”を付けて８桁にすること。
A29: ※口座情報が確認できる書類の写しを添付すること
J30: 上記、銀行口座についての問い合わせ先
K31: 担当者 役職名 | Q31: 氏名
K32: 電話番号
K33: メール アドレス
A35: ※２注意 契約書の一部となり、容易に変更ができないので、記入漏れ・記入誤りがないかご確認のうえ、ご提出ください。

Sheet Sheet1
A1: 物価高騰対策 | B1: 備蓄物資
A2: 異常気象対策（気候変動の影響による猛暑など※寒冷、雪害対策等も可） | B2: 災害時の電源確保
A3: 入居者・利用者の生活環境、職員の負担軽減・勤務環境改善対策等 | B3: 災害時の保健衛生に資する物品等
A4: その他※上記３件に該当しない、介護サービスを円滑に継続するための対応に係る経費 | B4: その他※上記３件に該当しない、災害発生時にサービス提供体制を維持するために必要な物品等に係る経費

Sheet リスト
B1: 事業所・施設等の種別
A2: 1 | B2: 訪問介護事業所 集合住宅併設型（同一建物減算の算定がある事業所） | C2: 200 | D2: /事業所
A3: 2 | B3: 訪問介護事業所 上記以外であって、1月あたり延べ訪問回数200回以下 | C3: 300 | D3: /事業所
A4: 3 | B4: 訪問介護事業所 上記以外であって、1月あたり延べ訪問回数201回以上2,000回以下 | C4: 400 | D4: /事業所
A5: 4 | B5: 訪問介護事業所 上記以外であって、1月あたり延べ訪問回数2,001回以上 | C5: 500 | D5: /事業所
A6: 5 | B6: 訪問入浴介護事業所 | C6: 200 | D6: /事業所
A7: 6 | B7: 訪問看護事業所 | C7: 200 | D7: /事業所
A8: 7 | B8: 訪問リハビリテーション事業所 | C8: 200 | D8: /事業所
A9: 8 | B9: 通所介護事業所 1月あたり延べ利用者数300人以下 | C9: 200 | D9: /事業所
A10: 9 | B10: 通所介護事業所 1月あたり延べ利用者数301人以上600人以下 | C10: 300 | D10: /定員
A11: 10 | B11: 通所介護事業所 1月あたり延べ利用者数601人以上 | C11: 400 | D11: /定員
A12: 11 | B12: 通所リハビリテーション事業所 | C12: 200 | D12: /事業所
A13: 12 | B13: 特定施設入居者生活介護（養護老人ホーム、軽費老人ホームを除く） | C13: 200 | D13: /事業所
... A23: 22 | B23: 居宅介護支援事業所 | C23: 200 | D23: /事業所
A24: 23 | B24: 介護老人福祉施設 | C24: 6 | D24: /定員 | E24: 18 | F24: /定員
A25: 24 | B25: 介護老人保健施設 | C25: 6 | D25: /定員 | E25: 18 | F25: /定員
A26: 25 | B26: 介護医療院 | C26: 6 | D26: /定員 | E26: 18 | F26: /定員
A27: 26 | B27: 地域密着型介護老人福祉施設 | C27: 6 | D27: /定員 | E27: 18 | F27: /定員
A28: 27 | B28: 短期入所生活介護事業所 | C28: 6 | D28: /定員 | E28: 18 | F28: /定員
A29: 28 | B29: 養護老人ホーム | C29: 6 | D29: /定員 | E29: 18 | F29: /定員
A30: 29 | B30: 軽費老人ホーム | C30: 6 | D30: /定員 | E30: 18 | F30: /定員
B38: 福島県
